BEGIN:VCALENDAR
VERSION:2.0
PRODID:SchoolNow
CALSCALE:GREGORIAN
BEGIN:VEVENT
UID:b6edeaa2-b3cf-11e9-8594-12d9de80558a
DTSTAMP:20190731T201352Z
SUMMARY:GOLD Bell\, 3:00 PM Dismissal
URL;VALUE=URI:https://www.bereanchristian.com/calendar/2044116/gold-bell-3-
 00-pm-dismissal-clone
DTSTART;VALUE=DATE:20190912
DTEND;VALUE=DATE:20190913
END:VEVENT
END:VCALENDAR
