BEGIN:VCALENDAR
VERSION:2.0
PRODID:SchoolNow
CALSCALE:GREGORIAN
BEGIN:VEVENT
UID:627555dc-b3cf-11e9-b3be-12d9de80558a
DTSTAMP:20190731T201238Z
SUMMARY:GOLD Bell\, 3:00 PM Dismissal
URL;VALUE=URI:https://www.bereanchristian.com/calendar/2044114/gold-bell-3-
 00-pm-dismissal
DTSTART;VALUE=DATE:20190905
DTEND;VALUE=DATE:20190906
END:VEVENT
END:VCALENDAR
