BEGIN:VCALENDAR
VERSION:2.0
PRODID:SchoolNow
CALSCALE:GREGORIAN
BEGIN:VEVENT
UID:03a2a28a-b3cf-11e9-8d01-0ad168ace22c
DTSTAMP:20190731T200851Z
SUMMARY:BLUE Bell\, 2:20 PM Dismissal
URL;VALUE=URI:https://www.bereanchristian.com/calendar/2044112/blue-bell-2-
 20-dismissal-clone-clone
DTSTART;VALUE=DATE:20191015
DTEND;VALUE=DATE:20191016
END:VEVENT
END:VCALENDAR
