BEGIN:VCALENDAR
VERSION:2.0
PRODID:SchoolNow
CALSCALE:GREGORIAN
BEGIN:VEVENT
UID:b9c00ebe-b3ce-11e9-a9de-0ad168ace22c
DTSTAMP:20190731T200647Z
SUMMARY:PURPLE Bell\, 3:00 PM Dismissal
URL;VALUE=URI:https://www.bereanchristian.com/calendar/2044110/purple-bell-
 3-00-pm-dismissal-clone
DTSTART;VALUE=DATE:20200505
DTEND;VALUE=DATE:20200506
END:VEVENT
END:VCALENDAR
