BEGIN:VCALENDAR
VERSION:2.0
PRODID:SchoolNow
CALSCALE:GREGORIAN
BEGIN:VEVENT
UID:8f97d52c-b3ce-11e9-ac39-0ad168ace22c
DTSTAMP:20190731T200536Z
SUMMARY:PURPLE Bell\, 3:00 PM Dismissal
URL;VALUE=URI:https://www.bereanchristian.com/calendar/2044108/purple-bell-
 3-00-pm-dismissal-clone-clone
DTSTART;VALUE=DATE:20200303
DTEND;VALUE=DATE:20200304
END:VEVENT
END:VCALENDAR
