BEGIN:VCALENDAR
VERSION:2.0
PRODID:SchoolNow
CALSCALE:GREGORIAN
BEGIN:VEVENT
UID:0d027e6e-b3ce-11e9-bd60-0ad168ace22c
DTSTAMP:20190731T200157Z
SUMMARY:PURPLE Bell\, 3:00 PM Dismissal
URL;VALUE=URI:https://www.bereanchristian.com/calendar/2044100/purple-bell-
 3-00-pm-dismissal
DTSTART;VALUE=DATE:20190903
DTEND;VALUE=DATE:20190904
END:VEVENT
END:VCALENDAR
