BEGIN:VCALENDAR
VERSION:2.0
PRODID:SchoolNow
CALSCALE:GREGORIAN
BEGIN:VEVENT
UID:41207bac-b3cd-11e9-9ecf-0a5f85e65d1a
DTSTAMP:20190731T195615Z
SUMMARY:YELLOW Bell\, 3:00 PM Dismissal
URL;VALUE=URI:https://www.bereanchristian.com/calendar/2043968/yellow-bell-
 3-00-pm-dismissal-clone
DTSTART;VALUE=DATE:20200327
DTEND;VALUE=DATE:20200328
END:VEVENT
END:VCALENDAR
