BEGIN:VCALENDAR
VERSION:2.0
PRODID:SchoolNow
CALSCALE:GREGORIAN
BEGIN:VEVENT
UID:931910be-b3cc-11e9-a597-12d9de80558a
DTSTAMP:20190731T195123Z
SUMMARY:BLUE Bell\, 2:20 PM Dismissal
URL;VALUE=URI:https://www.bereanchristian.com/calendar/2043963/blue-bell-2-
 20-dismissal-clone-clone
DTSTART;VALUE=DATE:20200507
DTEND;VALUE=DATE:20200508
END:VEVENT
END:VCALENDAR
