BEGIN:VCALENDAR
VERSION:2.0
PRODID:SchoolNow
CALSCALE:GREGORIAN
BEGIN:VEVENT
UID:602cecc0-b3cc-11e9-808e-12d9de80558a
DTSTAMP:20190731T194957Z
SUMMARY:BLUE Bell\, 2:20 PM Dismissal
URL;VALUE=URI:https://www.bereanchristian.com/calendar/2043961/blue-bell-2-
 20-dismissal-clone
DTSTART;VALUE=DATE:20200422
DTEND;VALUE=DATE:20200423
END:VEVENT
END:VCALENDAR
