BEGIN:VCALENDAR
VERSION:2.0
PRODID:SchoolNow
CALSCALE:GREGORIAN
BEGIN:VEVENT
UID:380d4438-b3cc-11e9-8f2b-12d9de80558a
DTSTAMP:20190731T194850Z
SUMMARY:BLUE Bell\, 2:20 PM Dismissal
URL;VALUE=URI:https://www.bereanchristian.com/calendar/2043958/blue-bell-2-
 20-dismissal-clone-clone
DTSTART;VALUE=DATE:20200325
DTEND;VALUE=DATE:20200326
END:VEVENT
END:VCALENDAR
