BEGIN:VCALENDAR
VERSION:2.0
PRODID:SchoolNow
CALSCALE:GREGORIAN
BEGIN:VEVENT
UID:d66398ae-b3cb-11e9-bec1-12913d301822
DTSTAMP:20190731T194606Z
SUMMARY:BLUE Bell\, 2:20 PM Dismissal
URL;VALUE=URI:https://www.bereanchristian.com/calendar/2043955/blue-bell-2-
 20-dismissal-clone
DTSTART;VALUE=DATE:20200226
DTEND;VALUE=DATE:20200227
END:VEVENT
END:VCALENDAR
