BEGIN:VCALENDAR
VERSION:2.0
PRODID:SchoolNow
CALSCALE:GREGORIAN
BEGIN:VEVENT
UID:8974a1fa-b3cb-11e9-b87f-0aa3647d934a
DTSTAMP:20190731T194357Z
SUMMARY:BLUE Bell\, 2:20 PM Dismissal
URL;VALUE=URI:https://www.bereanchristian.com/calendar/2043953/blue-bell-2-
 20-dismissal-clone
DTSTART;VALUE=DATE:20200212
DTEND;VALUE=DATE:20200213
END:VEVENT
END:VCALENDAR
