BEGIN:VCALENDAR
VERSION:2.0
PRODID:SchoolNow
CALSCALE:GREGORIAN
BEGIN:VEVENT
UID:097b417a-b3cb-11e9-9909-0aa3647d934a
DTSTAMP:20190731T194023Z
SUMMARY:BLUE Bell\, 2:20 PM Dismissal
URL;VALUE=URI:https://www.bereanchristian.com/calendar/2043917/blue-bell-2-
 20-dismissal-clone
DTSTART;VALUE=DATE:20190821
DTEND;VALUE=DATE:20190822
END:VEVENT
END:VCALENDAR
