BEGIN:VCALENDAR
VERSION:2.0
PRODID:SchoolNow
CALSCALE:GREGORIAN
BEGIN:VEVENT
UID:f3c85002-b3ca-11e9-aed8-0aa3647d934a
DTSTAMP:20190731T193946Z
SUMMARY:BLUE Bell\, 2:20 PM Dismissal
URL;VALUE=URI:https://www.bereanchristian.com/calendar/2043915/blue-bell-2-
 20-dismissal-clone
DTSTART;VALUE=DATE:20191023
DTEND;VALUE=DATE:20191024
END:VEVENT
END:VCALENDAR
