BEGIN:VCALENDAR
VERSION:2.0
PRODID:SchoolNow
CALSCALE:GREGORIAN
BEGIN:VEVENT
UID:e4c03e30-b3ca-11e9-8fd6-0aa3647d934a
DTSTAMP:20190731T193921Z
SUMMARY:BLUE Bell\, 2:20 PM Dismissal
URL;VALUE=URI:https://www.bereanchristian.com/calendar/2043914/blue-bell-2-
 20-dismissal-clone
DTSTART;VALUE=DATE:20191009
DTEND;VALUE=DATE:20191010
END:VEVENT
END:VCALENDAR
