BEGIN:VCALENDAR
VERSION:2.0
PRODID:SchoolNow
CALSCALE:GREGORIAN
BEGIN:VEVENT
UID:d8da5b28-b3ca-11e9-9edb-0aa3647d934a
DTSTAMP:20190731T193901Z
SUMMARY:BLUE Bell\, 2:20 PM Dismissal
URL;VALUE=URI:https://www.bereanchristian.com/calendar/2043913/blue-bell-2-
 20-dismissal-clone
DTSTART;VALUE=DATE:20191002
DTEND;VALUE=DATE:20191003
END:VEVENT
END:VCALENDAR
