BEGIN:VCALENDAR
VERSION:2.0
PRODID:SchoolNow
CALSCALE:GREGORIAN
BEGIN:VEVENT
UID:a2c8c4b6-b3ca-11e9-82b6-12efdbe1f0bc
DTSTAMP:20190731T193730Z
SUMMARY:BLUE Bell\, 2:20 PM Dismissal
URL;VALUE=URI:https://www.bereanchristian.com/calendar/2043911/blue-bell-2-
 20-dismissal-clone-clone-clone
DTSTART;VALUE=DATE:20190918
DTEND;VALUE=DATE:20190919
END:VEVENT
END:VCALENDAR
