BEGIN:VCALENDAR
VERSION:2.0
PRODID:SchoolNow
CALSCALE:GREGORIAN
BEGIN:VEVENT
UID:496e46e8-b3ca-11e9-8682-0ad168ace22c
DTSTAMP:20190731T193500Z
SUMMARY:BLUE Bell\, 2:20 PM Dismissal
URL;VALUE=URI:https://www.bereanchristian.com/calendar/2043910/blue-bell-2-
 20-dismissal-clone-clone
DTSTART;VALUE=DATE:20190911
DTEND;VALUE=DATE:20190912
END:VEVENT
END:VCALENDAR
