BEGIN:VCALENDAR
VERSION:2.0
PRODID:SchoolNow
CALSCALE:GREGORIAN
BEGIN:VEVENT
UID:1906bc06-b3ca-11e9-94ad-0ad168ace22c
DTSTAMP:20190731T193339Z
SUMMARY:BLUE Bell\, 2:20 PM Dismissal
URL;VALUE=URI:https://www.bereanchristian.com/calendar/2043909/blue-bell-2-
 20-dismissal-clone
DTSTART;VALUE=DATE:20190904
DTEND;VALUE=DATE:20190905
END:VEVENT
END:VCALENDAR
