BEGIN:VCALENDAR
VERSION:2.0
PRODID:SchoolNow
CALSCALE:GREGORIAN
BEGIN:VEVENT
UID:f92ee52a-b3c9-11e9-a1f2-0ad168ace22c
DTSTAMP:20190731T193423Z
SUMMARY:BLUE Bell\, 2:20 PM Dismissal
URL;VALUE=URI:https://www.bereanchristian.com/calendar/2043908/blue-bell-2-
 20-dismissal-clone
DTSTART;VALUE=DATE:20190828
DTEND;VALUE=DATE:20190829
END:VEVENT
END:VCALENDAR
