BEGIN:VCALENDAR
VERSION:2.0
PRODID:SchoolNow
CALSCALE:GREGORIAN
BEGIN:VEVENT
UID:528fc57c-b3c9-11e9-9201-0a7a299e7854
DTSTAMP:20190731T192806Z
SUMMARY:WHITE Bell\, 3:00 pm Dismissal
URL;VALUE=URI:https://www.bereanchristian.com/calendar/2043906/white-bell-3
 -00-pm-dismissal-clone
DTSTART;VALUE=DATE:20200514
DTEND;VALUE=DATE:20200515
END:VEVENT
END:VCALENDAR
