BEGIN:VCALENDAR
VERSION:2.0
PRODID:SchoolNow
CALSCALE:GREGORIAN
BEGIN:VEVENT
UID:41b5666c-b3c9-11e9-9084-0a7a299e7854
DTSTAMP:20190731T192738Z
SUMMARY:WHITE Bell\, 3:00 pm Dismissal
URL;VALUE=URI:https://www.bereanchristian.com/calendar/2043905/white-bell-3
 -00-pm-dismissal-clone-clone
DTSTART;VALUE=DATE:20200513
DTEND;VALUE=DATE:20200514
END:VEVENT
END:VCALENDAR
