BEGIN:VCALENDAR
VERSION:2.0
PRODID:SchoolNow
CALSCALE:GREGORIAN
BEGIN:VEVENT
UID:1a636a28-b3c9-11e9-acc9-0a7a299e7854
DTSTAMP:20190731T192632Z
SUMMARY:WHITE Bell\, 3:00 pm Dismissal
URL;VALUE=URI:https://www.bereanchristian.com/calendar/2043902/white-bell-3
 -00-pm-dismissal-clone
DTSTART;VALUE=DATE:20200504
DTEND;VALUE=DATE:20200505
END:VEVENT
END:VCALENDAR
