BEGIN:VCALENDAR
VERSION:2.0
PRODID:SchoolNow
CALSCALE:GREGORIAN
BEGIN:VEVENT
UID:0783c844-b3c9-11e9-9d3a-0a7a299e7854
DTSTAMP:20190731T192600Z
SUMMARY:WHITE Bell\, 3:00 pm Dismissal
URL;VALUE=URI:https://www.bereanchristian.com/calendar/2043901/white-bell-3
 -00-pm-dismissal-clone
DTSTART;VALUE=DATE:20200428
DTEND;VALUE=DATE:20200429
END:VEVENT
END:VCALENDAR
