BEGIN:VCALENDAR
VERSION:2.0
PRODID:SchoolNow
CALSCALE:GREGORIAN
BEGIN:VEVENT
UID:da3030c6-b3c8-11e9-b719-0a7a299e7854
DTSTAMP:20190731T192444Z
SUMMARY:WHITE Bell\, 3:00 pm Dismissal
URL;VALUE=URI:https://www.bereanchristian.com/calendar/2043897/white-bell-3
 -00-pm-dismissal-clone
DTSTART;VALUE=DATE:20200420
DTEND;VALUE=DATE:20200421
END:VEVENT
END:VCALENDAR
