BEGIN:VCALENDAR
VERSION:2.0
PRODID:SchoolNow
CALSCALE:GREGORIAN
BEGIN:VEVENT
UID:4fd46776-b3c8-11e9-8f6a-0a5f85e65d1a
DTSTAMP:20190731T192052Z
SUMMARY:WHITE Bell\, 3:00 pm Dismissal
URL;VALUE=URI:https://www.bereanchristian.com/calendar/2043889/white-bell-3
 -00-pm-dismissal-clone
DTSTART;VALUE=DATE:20200317
DTEND;VALUE=DATE:20200318
END:VEVENT
END:VCALENDAR
