BEGIN:VCALENDAR
VERSION:2.0
PRODID:SchoolNow
CALSCALE:GREGORIAN
BEGIN:VEVENT
UID:42607436-b3c8-11e9-ba87-0a5f85e65d1a
DTSTAMP:20190731T192029Z
SUMMARY:WHITE Bell\, 3:00 pm Dismissal
URL;VALUE=URI:https://www.bereanchristian.com/calendar/2043887/white-bell-3
 -00-pm-dismissal-clone
DTSTART;VALUE=DATE:20200316
DTEND;VALUE=DATE:20200317
END:VEVENT
END:VCALENDAR
