BEGIN:VCALENDAR
VERSION:2.0
PRODID:SchoolNow
CALSCALE:GREGORIAN
BEGIN:VEVENT
UID:e7d0054a-b3c7-11e9-af22-0a5f85e65d1a
DTSTAMP:20190731T191758Z
SUMMARY:WHITE Bell\, 3:00 pm Dismissal
URL;VALUE=URI:https://www.bereanchristian.com/calendar/2043873/white-bell-3
 -00-pm-dismissal-clone-clone-clone
DTSTART;VALUE=DATE:20200225
DTEND;VALUE=DATE:20200226
END:VEVENT
END:VCALENDAR
