BEGIN:VCALENDAR
VERSION:2.0
PRODID:SchoolNow
CALSCALE:GREGORIAN
BEGIN:VEVENT
UID:d2c101a4-b3c7-11e9-a43f-0a5f85e65d1a
DTSTAMP:20190731T191722Z
SUMMARY:WHITE Bell\, 3:00 pm Dismissal
URL;VALUE=URI:https://www.bereanchristian.com/calendar/2043872/white-bell-3
 -00-pm-dismissal-clone-clone
DTSTART;VALUE=DATE:20200224
DTEND;VALUE=DATE:20200225
END:VEVENT
END:VCALENDAR
