BEGIN:VCALENDAR
VERSION:2.0
PRODID:SchoolNow
CALSCALE:GREGORIAN
BEGIN:VEVENT
UID:2378216e-b3c7-11e9-9110-12efdbe1f0bc
DTSTAMP:20190731T191228Z
SUMMARY:WHITE Bell\, 3:00 pm Dismissal
URL;VALUE=URI:https://www.bereanchristian.com/calendar/2043868/white-bell-3
 -00-pm-dismissal-clone
DTSTART;VALUE=DATE:20200210
DTEND;VALUE=DATE:20200211
END:VEVENT
END:VCALENDAR
