BEGIN:VCALENDAR
VERSION:2.0
PRODID:SchoolNow
CALSCALE:GREGORIAN
BEGIN:VEVENT
UID:ab1cc888-b3c5-11e9-8958-0a5f85e65d1a
DTSTAMP:20190731T190157Z
SUMMARY:WHITE Bell\, 3:00 pm Dismissal
URL;VALUE=URI:https://www.bereanchristian.com/calendar/2043853/white-bell-3
 -00-pm-dismissal-clone-clone
DTSTART;VALUE=DATE:20191029
DTEND;VALUE=DATE:20191030
END:VEVENT
END:VCALENDAR
