BEGIN:VCALENDAR
VERSION:2.0
PRODID:SchoolNow
CALSCALE:GREGORIAN
BEGIN:VEVENT
UID:08355a86-b3c5-11e9-b1fc-12913d301822
DTSTAMP:20190731T185723Z
SUMMARY:WHITE Bell\, 3:00 pm Dismissal
URL;VALUE=URI:https://www.bereanchristian.com/calendar/2043849/white-bell-3
 -00-pm-dismissal-clone
DTSTART;VALUE=DATE:20191014
DTEND;VALUE=DATE:20191015
END:VEVENT
END:VCALENDAR
