BEGIN:VCALENDAR
VERSION:2.0
PRODID:SchoolNow
CALSCALE:GREGORIAN
BEGIN:VEVENT
UID:ef4cf1b4-b3c4-11e9-95a2-12913d301822
DTSTAMP:20190731T185642Z
SUMMARY:WHITE Bell\, 3:00 pm Dismissal
URL;VALUE=URI:https://www.bereanchristian.com/calendar/2043848/white-bell-3
 -00-pm-dismissal-clone
DTSTART;VALUE=DATE:20191008
DTEND;VALUE=DATE:20191009
END:VEVENT
END:VCALENDAR
