BEGIN:VCALENDAR
VERSION:2.0
PRODID:SchoolNow
CALSCALE:GREGORIAN
BEGIN:VEVENT
UID:dd5946f6-b3c4-11e9-8d1c-12913d301822
DTSTAMP:20190731T185612Z
SUMMARY:WHITE Bell\, 3:00 pm Dismissal
URL;VALUE=URI:https://www.bereanchristian.com/calendar/2043847/white-bell-3
 -00-pm-dismissal-clone
DTSTART;VALUE=DATE:20191007
DTEND;VALUE=DATE:20191008
END:VEVENT
END:VCALENDAR
