BEGIN:VCALENDAR
VERSION:2.0
PRODID:SchoolNow
CALSCALE:GREGORIAN
BEGIN:VEVENT
UID:c60f77a4-b3c4-11e9-a021-12913d301822
DTSTAMP:20190731T185532Z
SUMMARY:WHITE Bell\, 3:00 pm Dismissal
URL;VALUE=URI:https://www.bereanchristian.com/calendar/2043846/white-bell-3
 -00-pm-dismissal-clone-clone-clone-clone
DTSTART;VALUE=DATE:20190930
DTEND;VALUE=DATE:20191001
END:VEVENT
END:VCALENDAR
