BEGIN:VCALENDAR
VERSION:2.0
PRODID:SchoolNow
CALSCALE:GREGORIAN
BEGIN:VEVENT
UID:adcaef3e-b3c4-11e9-bea1-12913d301822
DTSTAMP:20190731T185452Z
SUMMARY:WHITE Bell\, 3:00 pm Dismissal
URL;VALUE=URI:https://www.bereanchristian.com/calendar/2043844/white-bell-3
 -00-pm-dismissal-clone-clone-clone-clone
DTSTART;VALUE=DATE:20190924
DTEND;VALUE=DATE:20190925
END:VEVENT
END:VCALENDAR
