BEGIN:VCALENDAR
VERSION:2.0
PRODID:SchoolNow
CALSCALE:GREGORIAN
BEGIN:VEVENT
UID:3121a144-b3c4-11e9-a48f-12abe94f4f36
DTSTAMP:20190731T185123Z
SUMMARY:WHITE Bell\, 3:00 pm Dismissal
URL;VALUE=URI:https://www.bereanchristian.com/calendar/2043843/white-bell-3
 -00-pm-dismissal-clone-clone-clone
DTSTART;VALUE=DATE:20190917
DTEND;VALUE=DATE:20190918
END:VEVENT
END:VCALENDAR
