BEGIN:VCALENDAR
VERSION:2.0
PRODID:SchoolNow
CALSCALE:GREGORIAN
BEGIN:VEVENT
UID:0d7e46fc-b3c4-11e9-becf-12abe94f4f36
DTSTAMP:20190731T185217Z
SUMMARY:WHITE Bell\, 3:00 pm Dismissal
URL;VALUE=URI:https://www.bereanchristian.com/calendar/2043841/white-bell-3
 -00-pm-dismissal-clone-clone
DTSTART;VALUE=DATE:20190916
DTEND;VALUE=DATE:20190917
END:VEVENT
END:VCALENDAR
