BEGIN:VCALENDAR
VERSION:2.0
PRODID:SchoolNow
CALSCALE:GREGORIAN
BEGIN:VEVENT
UID:c1076c72-b3c3-11e9-a836-12abe94f4f36
DTSTAMP:20190731T184814Z
SUMMARY:WHITE Bell\, 3:00 pm Dismissal
URL;VALUE=URI:https://www.bereanchristian.com/calendar/2043838/white-bell-3
 -00-pm-dismissal-clone
DTSTART;VALUE=DATE:20190909
DTEND;VALUE=DATE:20190910
END:VEVENT
END:VCALENDAR
