BEGIN:VCALENDAR
VERSION:2.0
PRODID:SchoolNow
CALSCALE:GREGORIAN
BEGIN:VEVENT
UID:b15ecc52-b3c3-11e9-bc56-12abe94f4f36
DTSTAMP:20190731T184748Z
SUMMARY:WHITE Bell\, 3:00 pm Dismissal
URL;VALUE=URI:https://www.bereanchristian.com/calendar/2043837/white-bell-3
 -00-pm-dismissal-clone
DTSTART;VALUE=DATE:20190827
DTEND;VALUE=DATE:20190828
END:VEVENT
END:VCALENDAR
