BEGIN:VCALENDAR
VERSION:2.0
PRODID:SchoolNow
CALSCALE:GREGORIAN
BEGIN:VEVENT
UID:2d4ba8fe-b3c3-11e9-b25e-0ad168ace22c
DTSTAMP:20190731T184407Z
SUMMARY:WHITE Bell\, 3:00 pm Dismissal
URL;VALUE=URI:https://www.bereanchristian.com/calendar/2043835/white-bell-3
 -00-pm-dismissal
DTSTART;VALUE=DATE:20190819
DTEND;VALUE=DATE:20190820
END:VEVENT
END:VCALENDAR
