BEGIN:VCALENDAR
VERSION:2.0
PRODID:SchoolNow
CALSCALE:GREGORIAN
BEGIN:VEVENT
UID:76760afc-b3c2-11e9-97d8-0a903d07d222
DTSTAMP:20190731T183900Z
SUMMARY:SPCL GREEN Bell\, 3:00 PM Dismissal
URL;VALUE=URI:https://www.bereanchristian.com/calendar/2043827/spcl-green-3
 -00-pm-dismissal-clone
DTSTART;VALUE=DATE:20200511
DTEND;VALUE=DATE:20200512
END:VEVENT
END:VCALENDAR
