BEGIN:VCALENDAR
VERSION:2.0
PRODID:SchoolNow
CALSCALE:GREGORIAN
BEGIN:VEVENT
UID:581e7abc-b3c2-11e9-9d29-0a903d07d222
DTSTAMP:20190731T183809Z
SUMMARY:SPCL GREEN Bell\, 3:00 PM Dismissal
URL;VALUE=URI:https://www.bereanchristian.com/calendar/2043826/spcl-green-3
 -00-pm-dismissal-clone
DTSTART;VALUE=DATE:20190820
DTEND;VALUE=DATE:20190821
END:VEVENT
END:VCALENDAR
