BEGIN:VCALENDAR
VERSION:2.0
PRODID:SchoolNow
CALSCALE:GREGORIAN
BEGIN:VEVENT
UID:467e4afe-b3bc-11e9-b18d-0acb1a432d8e
DTSTAMP:20190731T175442Z
SUMMARY:GREEN Bell\, 3:00 PM dismissal
URL;VALUE=URI:https://www.bereanchristian.com/calendar/2043740/green-bell-3
 -00-pm-dismissal-clone
DTSTART;VALUE=DATE:20190813
DTEND;VALUE=DATE:20190814
END:VEVENT
END:VCALENDAR
