BEGIN:VCALENDAR
VERSION:2.0
PRODID:SchoolNow
CALSCALE:GREGORIAN
BEGIN:VEVENT
UID:a932ceb4-b3bb-11e9-a9e1-0acb1a432d8e
DTSTAMP:20190731T175019Z
SUMMARY:GREEN Bell\, 3:00 PM dismissal
URL;VALUE=URI:https://www.bereanchristian.com/calendar/2043737/green-bell-3
 -00-pm-dismissal
DTSTART;VALUE=DATE:20190812
DTEND;VALUE=DATE:20190813
END:VEVENT
END:VCALENDAR
