BEGIN:VCALENDAR
VERSION:2.0
PRODID:SchoolNow
CALSCALE:GREGORIAN
BEGIN:VEVENT
UID:b74e553e-9842-11e9-a05a-0a4b4ad6f60c
DTSTAMP:20190626T184632Z
SUMMARY:Fourth Quarter Midterm
URL;VALUE=URI:https://www.bereanchristian.com/calendar/2013587/fourth-quart
 er-midterm
DTSTART:20200422T153000Z
DTEND:20200422T212000Z
END:VEVENT
END:VCALENDAR
