BEGIN:VCALENDAR
VERSION:2.0
PRODID:SchoolNow
CALSCALE:GREGORIAN
BEGIN:VEVENT
UID:02e057ec-9828-11e9-a93d-0a2345fd8e4c
DTSTAMP:20190626T153916Z
SUMMARY:Senior Breakfast + Rehearsal
URL;VALUE=URI:https://www.bereanchristian.com/calendar/2013274/senior-break
 fast-and-rehearsal
DTSTART:20200522T153000Z
DTEND:20200522T190000Z
END:VEVENT
END:VCALENDAR
