BEGIN:VCALENDAR
VERSION:2.0
PRODID:SchoolNow
CALSCALE:GREGORIAN
BEGIN:VEVENT
UID:a37fa2ee-9827-11e9-8230-0a517fbd488e
DTSTAMP:20190626T153242Z
SUMMARY:Spring Concert
URL;VALUE=URI:https://www.bereanchristian.com/calendar/2013273/spring-conce
 rt
DTSTART:20200508T020000Z
DTEND:20200508T040000Z
END:VEVENT
END:VCALENDAR
