BEGIN:VCALENDAR
VERSION:2.0
PRODID:SchoolNow
CALSCALE:GREGORIAN
BEGIN:VEVENT
UID:2255fef6-97c9-11e9-8504-12cbb48cdbc6
DTSTAMP:20190626T041613Z
SUMMARY:Performing Arts Production
URL;VALUE=URI:https://www.bereanchristian.com/calendar/2013080/performing-a
 rts-production
DTSTART:20200503T020000Z
DTEND:20200503T040000Z
END:VEVENT
END:VCALENDAR
