BEGIN:VCALENDAR
VERSION:2.0
PRODID:SchoolNow
CALSCALE:GREGORIAN
BEGIN:VEVENT
UID:1cb6ebe2-97c7-11e9-bdc8-12cbb48cdbc6
DTSTAMP:20200224T174802Z
SUMMARY:Reflection: A Night of Dramatic One Acts
URL;VALUE=URI:https://www.bereanchristian.com/calendar/2013079/one-acts
DTSTART:20200301T030000Z
DTEND:20200301T040000Z
END:VEVENT
END:VCALENDAR
